{
 "currentVersion": 10.71,
 "serviceDescription": "georeference plan of utilities around KRWWTP",
 "name": "Utilities_Dept/Utility_Review_092122_no_contoursgeoref",
 "description": "georeference plan of utilities around KRWWTP",
 "extent": {
  "xmin": 2101768.989056445,
  "ymin": 242355.410396495,
  "xmax": 2102707.718864445,
  "ymax": 244344.6999084948,
  "spatialReference": {
   "wkid": 102677,
   "latestWkid": 3419
  }
 },
 "initialExtent": {
  "xmin": 2101768.989056445,
  "ymin": 242355.410396495,
  "xmax": 2102707.718864445,
  "ymax": 244344.6999084948,
  "spatialReference": {
   "wkid": 102677,
   "latestWkid": 3419
  }
 },
 "fullExtent": {
  "xmin": 2101768.989056445,
  "ymin": 242355.410396495,
  "xmax": 2102707.718864445,
  "ymax": 244344.6999084948,
  "spatialReference": {
   "wkid": 102677,
   "latestWkid": 3419
  }
 },
 "pixelSizeX": 0.06680399999999405,
 "pixelSizeY": 0.06680399999999374,
 "bandCount": 3,
 "pixelType": "U8",
 "minPixelSize": 0,
 "maxPixelSize": 0,
 "copyrightText": "",
 "serviceDataType": "esriImageServiceDataTypeRGB",
 "minValues": [],
 "maxValues": [],
 "meanValues": [],
 "stdvValues": [],
 "objectIdField": "",
 "fields": [],
 "capabilities": "Image,Metadata,Mensuration",
 "defaultMosaicMethod": "Center",
 "allowedMosaicMethods": "",
 "sortField": "",
 "sortValue": null,
 "mosaicOperator": "First",
 "defaultCompressionQuality": 75,
 "defaultResamplingMethod": "Bilinear",
 "maxImageHeight": 4100,
 "maxImageWidth": 15000,
 "allowRasterFunction": true,
 "rasterFunctionInfos": [
  {
   "name": "None",
   "description": "",
   "help": ""
  }
 ],
 "rasterTypeInfos": [
  {
   "name": "Raster Dataset",
   "description": "Supports all ArcGIS Raster Datasets",
   "help": ""
  }
 ],
 "mensurationCapabilities": "Basic",
 "hasHistograms": false,
 "hasColormap": false,
 "hasRasterAttributeTable": false,
 "minScale": 0,
 "maxScale": 0,
 "exportTilesAllowed": false,
 "hasMultidimensions": false,
 "supportsStatistics": false,
 "supportsAdvancedQueries": false,
 "editFieldsInfo": null,
 "ownershipBasedAccessControlForRasters": null,
 "allowComputeTiePoints": false,
 "useStandardizedQueries": true,
 "advancedQueryCapabilities": {
  "useStandardizedQueries": true,
  "supportsStatistics": false,
  "supportsOrderBy": false,
  "supportsDistinct": false,
  "supportsPagination": false
 },
 "spatialReference": {
  "wkid": 102677,
  "latestWkid": 3419
 }
}
